BEGIN:VCALENDAR
VERSION:2.0
PRODID:-//Popcorn Man - ECPv4.4.5//NONSGML v1.0//EN
CALSCALE:GREGORIAN
METHOD:PUBLISH
X-WR-CALNAME:Popcorn Man
X-ORIGINAL-URL:http://popcornman.com.au
X-WR-CALDESC:Events for Popcorn Man
BEGIN:VEVENT
DTSTART;TZID=Australia/Brisbane:20190201T150000
DTEND;TZID=Australia/Brisbane:20190201T200000
DTSTAMP:20190227T115128
CREATED:20160619T065531Z
LAST-MODIFIED:20181205T215435Z
UID:5007-1549033200-1549051200@popcornman.com.au
SUMMARY:Springfield Markets
DESCRIPTION:Springfield Markets is an outdoor family event\, located in Greater Springfield’s Robelle Domain Parklands.\nWith over 100 Market stalls\, showcasing specialty multicultural foods\, craft\, giftware\, products & services from our local community.\n\nThe atmosphere has live music\, wandering entertainment & performers\, the backdrop being the most beautiful parkland in South East Queensland\, with 24 hectares of walkways\, cycle tracks\, featuring a water play land and staging.\nCelebrate Friday with us!  Come for an afternoon treat\, splash in the new Lagoon\, browse our local talented artists & crafters stalls\, shop for homewares and enjoy Dinner with family & friends from Food Trucks & Multicultural stalls.\nRobelle Parkland has plenty of open spaces to eat & play\, Don't forget your picnic blanket & your Swimmers.\n
URL:http://popcornman.com.au/event/springfield-markets/2019-02-01/
LOCATION:Australia
GEO:-27.6813411;152.9053697
CATEGORIES:Artisan,Food,Markets,Night Market,Twilight
ATTACH;FMTTYPE=image/png:http://popcornman.com.au/wp-content/uploads/2016/06/Lagoon-Opening.png
END:VEVENT
BEGIN:VEVENT
DTSTART;TZID=Australia/Brisbane:20190202T160000
DTEND;TZID=Australia/Brisbane:20190202T200000
DTSTAMP:20190227T115128
CREATED:20160725T065323Z
LAST-MODIFIED:20190220T000633Z
UID:3077-1549123200-1549137600@popcornman.com.au
SUMMARY:Twilight Makers Market @ Raby Bay
DESCRIPTION:The Twilight Makers Market located in Cleveland on the boardwalk of the Raby Bay Harbor is a monthly market\, which features amazing creative and handmade goods by local artisans.\n\nThe Cleveland Twilight Market is held from 4pm to 8.30pm once a month and is a great afternoon/evening for the whole family. With over 60 stalls there is something for everyone. Entertainment for all ages\, fashion\, jewellery\, candles\, cushions\, handmade fudge and gourmet delights. You will find it all at the Cleveland Twilight Market located at the Raby Bay Park right opposite the Cleveland Train Station. We look forward to seeing you there
URL:http://popcornman.com.au/event/twilight-makers-market-raby-bay-2/2019-02-02/
LOCATION:Harbourview Ct\, Raby Bay\, Queensland\, Australia
GEO:-27.5238195;153.2663289
X-APPLE-STRUCTURED-LOCATION;VALUE=URI;X-ADDRESS=Harbourview Ct Raby Bay Queensland Australia;X-APPLE-RADIUS=500;X-TITLE=Harbourview Ct:geo:153.2663289,-27.5238195
CATEGORIES:Artisan,Food,Markets,Night Market,Twilight
ATTACH;FMTTYPE=image/jpeg:http://popcornman.com.au/wp-content/uploads/2016/06/12985418_1021096327984831_2735870539769394260_n.jpg
END:VEVENT
BEGIN:VEVENT
DTSTART;TZID=Australia/Brisbane:20190203T060000
DTEND;TZID=Australia/Brisbane:20190203T120000
DTSTAMP:20190227T115128
CREATED:20160619T070556Z
LAST-MODIFIED:20181228T224659Z
UID:5009-1549173600-1549195200@popcornman.com.au
SUMMARY:Mitchelton Farmers Markets
DESCRIPTION:Jan Powers Farmers Markets in Blackwood St\, Mitchelton is on the first Sunday of every month from 6am to 12pm.\nEarly Sunday we block off a few blocks and bring the fresh country goodness to Mitchelton.\n\nBring your green bag and be prepared to come back home with some goodies that will last for ages\, taste good and are from the local area\, it’s a great way to fill your pantry and fridge!\n\nWith great prices\, local produce and deli-style goods from around the world. Get all your fruit and vegetables\, meats\, cakes\, spices\, oils\, seafood\, pasta. As well as plenty of delicious bakeries that sell organic bread\, spelt bread\, sourdough the list goes on\, you can’t go wrong.\n\nYou can enjoy delicious freshly baked breads and a coffee for breakfast before hitting the colourful range of grocery stalls on offer. There are also flowers\, artisan and organic products\, meats\, poultry and fresh fish available every month.\n\nAll of Mitchelton and the surrounding area turn out for a packed street market with over 140 stalls to tempt you with all you will need to be a Masterchef!\nBring the family and enjoy food from around the world.\n\nDogs are allowed at all our Markets\, except the City (Guide dogs welcome)
URL:http://popcornman.com.au/event/mitchelton-farmers-markets/2019-02-03/
LOCATION:Blackwood Street\, Mitchelton\, Queensland\, Australia
GEO:-27.4090887;152.9748521
X-APPLE-STRUCTURED-LOCATION;VALUE=URI;X-ADDRESS=Blackwood Street Mitchelton Queensland Australia;X-APPLE-RADIUS=500;X-TITLE=Blackwood Street:geo:152.9748521,-27.4090887
CATEGORIES:Farmers Markets,Markets
ATTACH;FMTTYPE=image/jpeg:http://popcornman.com.au/wp-content/uploads/2016/06/Mitchy02.jpg
END:VEVENT
BEGIN:VEVENT
DTSTART;TZID=Australia/Brisbane:20190206T080000
DTEND;TZID=Australia/Brisbane:20200206T180000
DTSTAMP:20190227T115128
CREATED:20150211T000255Z
LAST-MODIFIED:20190220T000457Z
UID:5010-1549440000-1581012000@popcornman.com.au
SUMMARY:Brisbane City Markets - Queen Street
DESCRIPTION:The renowned weekly farmers markets corner of George Street and Queen Street Mall in Brisbane are alive with a huge variety of high-quality stalls of genuine farm-fresh produce\, gourmet food\, artisan and entertainment. Previously run by Jan Powers Farmers Markets\, it has now been taken over by Goodwill Projects; the same event managers responsible for Milton\, Carseldine\, Nundah\, Kuraby and Early Bird Breakfast Markets as well as a host of quality events around Australia.\n\nOn every Wednesday (except Ekka show holiday and the month of January)\, rain hail or shine\, you can be assured to find some of the best fresh foods and produce not available in the city any other day.\n\nSo\, if you are in the city on Wednesday\, make the effort to browse this fantastic market and come and say hello to the Popcorn Man.\n\nBrisbane City Markets\, Queen Street Mall Brisbane CBD\n\n[video width="640" height="360" mp4="http://popcornman.com.au/wp-content/uploads/2015/02/Jan-Powers-Farmers-Markets.mp4"][/video]\n\n\n\nB105 FM Shout Out to the Popcorn Man for State of Origin Night!\n[audio mp3="http://popcornman.com.au/wp-content/uploads/2015/02/StateOfOrigin_ShoutOut_2014-05-28.mp3"][/audio]\n\n\n\n
URL:http://popcornman.com.au/event/queen-street-markets-2019-02-06/2019-02-06/
LOCATION:Queen St\, Brisbane\, queensland\, 4000\, Australia
GEO:-27.4713296;153.022729
X-APPLE-STRUCTURED-LOCATION;VALUE=URI;X-ADDRESS=Queen St Brisbane queensland 4000 Australia;X-APPLE-RADIUS=500;X-TITLE=Queen St:geo:153.022729,-27.4713296
CATEGORIES:Artisan,Farmers Markets,Food,Markets
ATTACH;FMTTYPE=image/jpeg:http://popcornman.com.au/wp-content/uploads/2015/02/BneCityMarkets.jpg
END:VEVENT
BEGIN:VEVENT
DTSTART;TZID=Australia/Brisbane:20190208T170000
DTEND;TZID=Australia/Brisbane:20190208T210000
DTSTAMP:20190227T115128
CREATED:20181205T215203Z
LAST-MODIFIED:20190109T020516Z
UID:5699-1549645200-1549659600@popcornman.com.au
SUMMARY:Mingle Markets Yarrabilba
DESCRIPTION:The Yarrabilba Mingle Markets are a dynamic night market with Food Trucks\,Craft Stalls\, Live Music and more for the whole family.\n\nCome and enjoy the very best burgers\, Dutch Poffertje’s\, Potato tornado’s\, Cronut’s\, Hot-wings\, Turkish Gözleme\, Wood-fired pizza or Thai noodles.\n\nWhen: Once a month on the second Friday night of each calendar month\, excluding January 2018.\n\nTime: 5pm – 9pm\n\nWhere: Darlington Parklands\, Darlington Drive\, Yarrabilba
URL:http://popcornman.com.au/event/mingle-markets-yarrabilba/2019-02-08/
LOCATION:Darlington Parklands\, Darlington Drive\, Yarrabilba\, Queensland\, 4207\, Australia
CATEGORIES:Country Market,Food,Markets,Night Market,Twilight
ATTACH;FMTTYPE=image/png:http://popcornman.com.au/wp-content/uploads/2018/12/Mingle-Markets-Yarrabilba-PopcornMan.png
END:VEVENT
BEGIN:VEVENT
DTSTART;TZID=Australia/Brisbane:20190209T200000
DTEND;TZID=Australia/Brisbane:20190209T200000
DTSTAMP:20190227T115128
CREATED:20180708T032142Z
LAST-MODIFIED:20180708T032142Z
UID:5594-1549742400-1549742400@popcornman.com.au
SUMMARY:Ripley Markets
DESCRIPTION:Nestled in the heart of the Ripley Valley\, Providence is a community of authentic\, welcoming neighborhoods\, each fostering a genuine sense of belonging. It’s a place that reflects the spirit of the past\, while providing the benefits and opportunities that can only be found in Australia’s most visionary new town.
URL:http://popcornman.com.au/event/ripley-markets/2019-02-09/
LOCATION:6 Amity Way \, South Ripley\, Queensland\, Australia
GEO:-27.6917186;152.8074927
X-APPLE-STRUCTURED-LOCATION;VALUE=URI;X-ADDRESS=6 Amity Way  South Ripley Queensland Australia;X-APPLE-RADIUS=500;X-TITLE=6 Amity Way:geo:152.8074927,-27.6917186
CATEGORIES:Country Market,Food,Night Market,Twilight
ATTACH;FMTTYPE=image/png:http://popcornman.com.au/wp-content/uploads/2018/07/Providence-Ripley-Markets-PopcornMan-3.png
END:VEVENT
BEGIN:VEVENT
DTSTART;TZID=Australia/Brisbane:20190210T070000
DTEND;TZID=Australia/Brisbane:20190210T130000
DTSTAMP:20190227T115128
CREATED:20160619T072732Z
LAST-MODIFIED:20181228T224658Z
UID:5046-1549782000-1549803600@popcornman.com.au
SUMMARY:Tamborine Mountain Country Markets
DESCRIPTION:The Tamborine Mountain Country Markets are held on the 2nd Sunday of each month at the Tamborine Mountain Showgrounds at the roundabout Main Western Road and Bartle Road in Mount Tamborine and is held by the Tamborine Mountain Show Society.\nThe market offers a huge range of fresh fruit and vegetables\, wonderful locally produced cheeses\, popcorn\, plants\, herbs\, flowers\, coffee\, arts and crafts\, collectibles\, garden ornaments\, clothing\, a myriad of home made things and delicious temptations of all kinds.\n\nAnd if all this makes you hungry\, there is plenty of food to eat right then\, there’s excellent kettle corn (popcorn) by the famous Popcorn Man\, coffee\, poffertjes (Dutch pancakes)\, German sausages (try the Knackwurst with mustard – yum!) or be tempted by baked jacket potatoes or fresh corn on the cob.\n\nThe Tamborine Mountain Showgrounds are quite large\, so there is plenty of room to wander around.\n\nUsually\, there’s a singer or performer on the gazebo stage\, giving these markets a relaxing country atmosphere.  Large shady trees keep you cool in summer\, and some open areas allow you to soak in the sun on cooler days.\n\nThe coolness and fresh air of Tamborine Mountain invites you to thoroughly enjoy this country market day.
URL:http://popcornman.com.au/event/mount-tamborine-country-markets/2019-02-10/
LOCATION:Bartle Rd\, Tamborine Mountain\, Queensland\, Australia
GEO:-27.961177;153.1867977
X-APPLE-STRUCTURED-LOCATION;VALUE=URI;X-ADDRESS=Bartle Rd Tamborine Mountain Queensland Australia;X-APPLE-RADIUS=500;X-TITLE=Bartle Rd:geo:153.1867977,-27.961177
CATEGORIES:Country Market,Markets
ATTACH;FMTTYPE=image/jpeg:http://popcornman.com.au/wp-content/uploads/2016/06/Tambo02.jpg
END:VEVENT
BEGIN:VEVENT
DTSTART;TZID=Australia/Brisbane:20190213T080000
DTEND;TZID=Australia/Brisbane:20200213T180000
DTSTAMP:20190227T115128
CREATED:20150211T000255Z
LAST-MODIFIED:20150211T000255Z
UID:6025-1550044800-1581616800@popcornman.com.au
SUMMARY:Brisbane City Markets - Queen Street
DESCRIPTION:The renowned weekly farmers markets corner of George Street and Queen Street Mall in Brisbane are alive with a huge variety of high-quality stalls of genuine farm-fresh produce\, gourmet food\, artisan and entertainment. Previously run by Jan Powers Farmers Markets\, it has now been taken over by Goodwill Projects; the same event managers responsible for Milton\, Carseldine\, Nundah\, Kuraby and Early Bird Breakfast Markets as well as a host of quality events around Australia.\n\nOn every Wednesday (except Ekka show holiday and the month of January)\, rain hail or shine\, you can be assured to find some of the best fresh foods and produce not available in the city any other day.\n\nSo\, if you are in the city on Wednesday\, make the effort to browse this fantastic market and come and say hello to the Popcorn Man.\n\nBrisbane City Markets\, Queen Street Mall Brisbane CBD\n\n[video width="640" height="360" mp4="http://popcornman.com.au/wp-content/uploads/2015/02/Jan-Powers-Farmers-Markets.mp4"][/video]\n\n\n\nB105 FM Shout Out to the Popcorn Man for State of Origin Night!\n[audio mp3="http://popcornman.com.au/wp-content/uploads/2015/02/StateOfOrigin_ShoutOut_2014-05-28.mp3"][/audio]\n\n\n\n
URL:http://popcornman.com.au/event/queen-street-markets-2019-02-06/2019-02-13/
LOCATION:Queen St\, Brisbane\, queensland\, 4000\, Australia
GEO:-27.4713296;153.022729
X-APPLE-STRUCTURED-LOCATION;VALUE=URI;X-ADDRESS=Queen St Brisbane queensland 4000 Australia;X-APPLE-RADIUS=500;X-TITLE=Queen St:geo:153.022729,-27.4713296
CATEGORIES:Artisan,Farmers Markets,Food,Markets
ATTACH;FMTTYPE=image/jpeg:http://popcornman.com.au/wp-content/uploads/2015/02/BneCityMarkets.jpg
END:VEVENT
BEGIN:VEVENT
DTSTART;TZID=Australia/Brisbane:20190217T090000
DTEND;TZID=Australia/Brisbane:20190217T160000
DTSTAMP:20190227T115128
CREATED:20180313T030858Z
LAST-MODIFIED:20180608T042255Z
UID:5233-1550394000-1550419200@popcornman.com.au
SUMMARY:Orion Markets
DESCRIPTION:Orion Springfield Central combines the best of a traditional town centre – with its main street\, town square\, public spaces and parks – and integrates this with a carefully planned retail environment unlike any other in Australia. Visitors can shop\, be entertained\, do business and belong to a vibrant community
URL:http://popcornman.com.au/event/orion-markets/2019-02-17/
LOCATION:1 Main Street \, Springfield Central\, Queensland\, 4300\, Australia
GEO:-27.6776213;152.9021516
X-APPLE-STRUCTURED-LOCATION;VALUE=URI;X-ADDRESS=1 Main Street  Springfield Central Queensland 4300 Australia;X-APPLE-RADIUS=500;X-TITLE=1 Main Street:geo:152.9021516,-27.6776213
CATEGORIES:Artisan,Food,Markets
ATTACH;FMTTYPE=image/jpeg:http://popcornman.com.au/wp-content/uploads/2018/03/PopcornMan-Orion-Springfield-04.jpg
END:VEVENT
BEGIN:VEVENT
DTSTART;TZID=Australia/Brisbane:20190220T080000
DTEND;TZID=Australia/Brisbane:20200220T180000
DTSTAMP:20190227T115128
CREATED:20150211T000255Z
LAST-MODIFIED:20150211T000255Z
UID:6026-1550649600-1582221600@popcornman.com.au
SUMMARY:Brisbane City Markets - Queen Street
DESCRIPTION:The renowned weekly farmers markets corner of George Street and Queen Street Mall in Brisbane are alive with a huge variety of high-quality stalls of genuine farm-fresh produce\, gourmet food\, artisan and entertainment. Previously run by Jan Powers Farmers Markets\, it has now been taken over by Goodwill Projects; the same event managers responsible for Milton\, Carseldine\, Nundah\, Kuraby and Early Bird Breakfast Markets as well as a host of quality events around Australia.\n\nOn every Wednesday (except Ekka show holiday and the month of January)\, rain hail or shine\, you can be assured to find some of the best fresh foods and produce not available in the city any other day.\n\nSo\, if you are in the city on Wednesday\, make the effort to browse this fantastic market and come and say hello to the Popcorn Man.\n\nBrisbane City Markets\, Queen Street Mall Brisbane CBD\n\n[video width="640" height="360" mp4="http://popcornman.com.au/wp-content/uploads/2015/02/Jan-Powers-Farmers-Markets.mp4"][/video]\n\n\n\nB105 FM Shout Out to the Popcorn Man for State of Origin Night!\n[audio mp3="http://popcornman.com.au/wp-content/uploads/2015/02/StateOfOrigin_ShoutOut_2014-05-28.mp3"][/audio]\n\n\n\n
URL:http://popcornman.com.au/event/queen-street-markets-2019-02-06/2019-02-20/
LOCATION:Queen St\, Brisbane\, queensland\, 4000\, Australia
GEO:-27.4713296;153.022729
X-APPLE-STRUCTURED-LOCATION;VALUE=URI;X-ADDRESS=Queen St Brisbane queensland 4000 Australia;X-APPLE-RADIUS=500;X-TITLE=Queen St:geo:153.022729,-27.4713296
CATEGORIES:Artisan,Farmers Markets,Food,Markets
ATTACH;FMTTYPE=image/jpeg:http://popcornman.com.au/wp-content/uploads/2015/02/BneCityMarkets.jpg
END:VEVENT
BEGIN:VEVENT
DTSTART;TZID=Australia/Brisbane:20190222T080000
DTEND;TZID=Australia/Brisbane:20190222T170000
DTSTAMP:20190227T115128
CREATED:20190124T220149Z
LAST-MODIFIED:20190124T220149Z
UID:5865-1550822400-1550854800@popcornman.com.au
SUMMARY:Chillin' in the Hills - Twilight Market
DESCRIPTION:Bring the whole family for the first Chillin' in the Hills Twilight market. Delicious food trucks\, bar\, handmade craft and live music. Plenty of parking\, kids activities and perfect handmade Christmas gifts. Dinner and fun is sorted. Come down and support your community.
URL:http://popcornman.com.au/event/chillin-in-the-hills-twilight-market/2019-02-22/
LOCATION:2 Pine Hills Drive\, Bunya\, Queensland\, 4055\, Australia
CATEGORIES:Food,Markets,Night Market,Twilight
ATTACH;FMTTYPE=image/jpeg:http://popcornman.com.au/wp-content/uploads/2019/01/PopcornMan-Chillin-in-the-Hills.jpg
ORGANIZER;CN="Chillin%20in%20the%20Hills":MAILTO:chillininthehills@gmail.com
END:VEVENT
BEGIN:VEVENT
DTSTART;TZID=Australia/Brisbane:20190223T160000
DTEND;TZID=Australia/Brisbane:20190223T200000
DTSTAMP:20190227T115128
CREATED:20160725T065323Z
LAST-MODIFIED:20190220T000634Z
UID:5835-1550937600-1550952000@popcornman.com.au
SUMMARY:Twilight Makers Market @ Raby Bay
DESCRIPTION:The Twilight Makers Market located in Cleveland on the boardwalk of the Raby Bay Harbor is a monthly market\, which features amazing creative and handmade goods by local artisans.\n\nThe Cleveland Twilight Market is held from 4pm to 8.30pm once a month and is a great afternoon/evening for the whole family. With over 60 stalls there is something for everyone. Entertainment for all ages\, fashion\, jewellery\, candles\, cushions\, handmade fudge and gourmet delights. You will find it all at the Cleveland Twilight Market located at the Raby Bay Park right opposite the Cleveland Train Station. We look forward to seeing you there
URL:http://popcornman.com.au/event/twilight-makers-market-raby-bay-2/2019-02-23/
LOCATION:Harbourview Ct\, Raby Bay\, Queensland\, Australia
GEO:-27.5238195;153.2663289
X-APPLE-STRUCTURED-LOCATION;VALUE=URI;X-ADDRESS=Harbourview Ct Raby Bay Queensland Australia;X-APPLE-RADIUS=500;X-TITLE=Harbourview Ct:geo:153.2663289,-27.5238195
CATEGORIES:Artisan,Food,Markets,Night Market,Twilight
ATTACH;FMTTYPE=image/jpeg:http://popcornman.com.au/wp-content/uploads/2016/06/12985418_1021096327984831_2735870539769394260_n.jpg
END:VEVENT
BEGIN:VEVENT
DTSTART;TZID=Australia/Brisbane:20190224T070000
DTEND;TZID=Australia/Brisbane:20190224T120000
DTSTAMP:20190227T115128
CREATED:20190218T214749Z
LAST-MODIFIED:20190218T215029Z
UID:5998-1550991600-1551009600@popcornman.com.au
SUMMARY:Brisbane River Markets - Karana Downs
DESCRIPTION:Brisbane Western Suburbs amazing monthly markets in Karana Downs 4th Sunday of the month - Feb 24 7am - 12noon\n\nWith over 80 stalls and activities held both out front and on the Golf Greens (through the restaurant)\, it is a truly gorgeous day out for everyone.\n\nFree Entry Handmade Market Stalls Fresh Produce Pastries Cakes Preserves Coffee Chai Art Fashion Facepainting Burgers BBQ Fairy Floss Golf Course Jumping Castle Pet Care Mobile Dog Hydrobath Pony Rides Honey Licensed Bar Music Food Trucks Thai Woodfired Pizza Entertainment. Stalls and activities out front and out back through the restaurant\, overlooking the greens with workshops and demonstrations throughout the day.\nA truly gorgeous day out! Stall holder applications here: https://karanadownsmarkets.wordpress.com/contact/\nTag and follow us on Instagram: https://www.instagram.com/karanamarkets/
URL:http://popcornman.com.au/event/brisbane-river-markets-karana-downs/2019-02-24/
LOCATION:212 college road\, Karana Downs\, Queensland\, 4306\, Australia
ATTACH;FMTTYPE=image/png:http://popcornman.com.au/wp-content/uploads/2019/02/image.png
ORGANIZER;CN="Brisbane%20River%20Markets":MAILTO:canasta.events@gmail.com
END:VEVENT
BEGIN:VEVENT
DTSTART;TZID=Australia/Brisbane:20190227T080000
DTEND;TZID=Australia/Brisbane:20200227T180000
DTSTAMP:20190227T115128
CREATED:20150211T000255Z
LAST-MODIFIED:20150211T000255Z
UID:6027-1551254400-1582826400@popcornman.com.au
SUMMARY:Brisbane City Markets - Queen Street
DESCRIPTION:The renowned weekly farmers markets corner of George Street and Queen Street Mall in Brisbane are alive with a huge variety of high-quality stalls of genuine farm-fresh produce\, gourmet food\, artisan and entertainment. Previously run by Jan Powers Farmers Markets\, it has now been taken over by Goodwill Projects; the same event managers responsible for Milton\, Carseldine\, Nundah\, Kuraby and Early Bird Breakfast Markets as well as a host of quality events around Australia.\n\nOn every Wednesday (except Ekka show holiday and the month of January)\, rain hail or shine\, you can be assured to find some of the best fresh foods and produce not available in the city any other day.\n\nSo\, if you are in the city on Wednesday\, make the effort to browse this fantastic market and come and say hello to the Popcorn Man.\n\nBrisbane City Markets\, Queen Street Mall Brisbane CBD\n\n[video width="640" height="360" mp4="http://popcornman.com.au/wp-content/uploads/2015/02/Jan-Powers-Farmers-Markets.mp4"][/video]\n\n\n\nB105 FM Shout Out to the Popcorn Man for State of Origin Night!\n[audio mp3="http://popcornman.com.au/wp-content/uploads/2015/02/StateOfOrigin_ShoutOut_2014-05-28.mp3"][/audio]\n\n\n\n
URL:http://popcornman.com.au/event/queen-street-markets-2019-02-06/2019-02-27/
LOCATION:Queen St\, Brisbane\, queensland\, 4000\, Australia
GEO:-27.4713296;153.022729
X-APPLE-STRUCTURED-LOCATION;VALUE=URI;X-ADDRESS=Queen St Brisbane queensland 4000 Australia;X-APPLE-RADIUS=500;X-TITLE=Queen St:geo:153.022729,-27.4713296
CATEGORIES:Artisan,Farmers Markets,Food,Markets
ATTACH;FMTTYPE=image/jpeg:http://popcornman.com.au/wp-content/uploads/2015/02/BneCityMarkets.jpg
END:VEVENT
BEGIN:VEVENT
DTSTART;TZID=Australia/Brisbane:20190301T150000
DTEND;TZID=Australia/Brisbane:20190301T200000
DTSTAMP:20190227T115128
CREATED:20160619T065531Z
LAST-MODIFIED:20181205T215435Z
UID:5061-1551452400-1551470400@popcornman.com.au
SUMMARY:Springfield Markets
DESCRIPTION:Springfield Markets is an outdoor family event\, located in Greater Springfield’s Robelle Domain Parklands.\nWith over 100 Market stalls\, showcasing specialty multicultural foods\, craft\, giftware\, products & services from our local community.\n\nThe atmosphere has live music\, wandering entertainment & performers\, the backdrop being the most beautiful parkland in South East Queensland\, with 24 hectares of walkways\, cycle tracks\, featuring a water play land and staging.\nCelebrate Friday with us!  Come for an afternoon treat\, splash in the new Lagoon\, browse our local talented artists & crafters stalls\, shop for homewares and enjoy Dinner with family & friends from Food Trucks & Multicultural stalls.\nRobelle Parkland has plenty of open spaces to eat & play\, Don't forget your picnic blanket & your Swimmers.\n
URL:http://popcornman.com.au/event/springfield-markets/2019-03-01/
LOCATION:Australia
GEO:-27.6813411;152.9053697
CATEGORIES:Artisan,Food,Markets,Night Market,Twilight
ATTACH;FMTTYPE=image/png:http://popcornman.com.au/wp-content/uploads/2016/06/Lagoon-Opening.png
END:VEVENT
END:VCALENDAR